BEGIN:VCALENDAR
VERSION:2.0
PRODID:-//Squarespace Inc/Squarespace 6//v6//EN
BEGIN:VEVENT
UID:5a050966e2c48388cb8a600c@squarespace.com
DTSTAMP:20171110T023702Z
DTSTART:20170717T123000Z
DTEND:20171221T183000Z
SUMMARY:Term 3
END:VEVENT
END:VCALENDAR
