BEGIN:VCALENDAR
VERSION:2.0
PRODID:-//Squarespace Inc/Squarespace 6//v6//EN
BEGIN:VEVENT
UID:5a05092b419202641522d9e3@squarespace.com
DTSTAMP:20171110T023913Z
DTSTART:20170418T123000Z
DTEND:20171221T183000Z
SUMMARY:Term 2
END:VEVENT
END:VCALENDAR
