BEGIN:VCALENDAR
VERSION:2.0
PRODID:-//Squarespace Inc/Squarespace 6//v6//EN
BEGIN:VEVENT
UID:5a0508de0d9297cba268d9e2@squarespace.com
DTSTAMP:20171110T023953Z
DTSTART:20170201T133000Z
DTEND:20171221T183000Z
SUMMARY:Term 1
END:VEVENT
END:VCALENDAR
