BEGIN:VCALENDAR
VERSION:2.0
PRODID:-//Squarespace Inc/Squarespace 6//v6//EN
BEGIN:VEVENT
UID:5a0509c2652dea80131cf77d@squarespace.com
DTSTAMP:20171110T023445Z
DTSTART:20171009T123000Z
DTEND:20171221T183000Z
SUMMARY:Term 4
END:VEVENT
END:VCALENDAR
