BEGIN:VCALENDAR
VERSION:2.0
PRODID:-//Squarespace Inc/Squarespace 6//v6//EN
BEGIN:VEVENT
UID:5e4f31671f02d40d7ea0a191@squarespace.com
DTSTAMP:20200221T012619Z
DTSTART:20200429T230000Z
DTEND:20200430T053000Z
SUMMARY:Sibling Photo Day
END:VEVENT
END:VCALENDAR
