BEGIN:VCALENDAR
VERSION:2.0
PRODID:-//Squarespace Inc/Squarespace 6//v6//EN
BEGIN:VEVENT
UID:5e4f308fe8394814804a675e@squarespace.com
DTSTAMP:20200221T012408Z
DTSTART:20200423T000000Z
DTEND:20200423T020000Z
SUMMARY:ANZAC Day Ceremony 
END:VEVENT
END:VCALENDAR
