BEGIN:VCALENDAR
VERSION:2.0
PRODID:-//Squarespace Inc/Squarespace 6//v6//EN
BEGIN:VEVENT
UID:5e4f2f90ab73095ec5f13285@squarespace.com
DTSTAMP:20200221T012109Z
DTSTART:20200413T230000Z
DTEND:20200414T053000Z
SUMMARY:First Day Term 2 
END:VEVENT
END:VCALENDAR
