BEGIN:VCALENDAR
VERSION:2.0
PRODID:-//Squarespace Inc/Squarespace 6//v6//EN
BEGIN:VEVENT
UID:5e4f25ef6874b4107ecc1ad5@squarespace.com
DTSTAMP:20200221T003803Z
DTSTART:20200305T220000Z
DTEND:20200305T230000Z
SUMMARY:Walk 4 Duchenne 2020 Fountain Gate Walk and Special Assembly
END:VEVENT
END:VCALENDAR
