BEGIN:VCALENDAR
VERSION:2.0
PRODID:-//Squarespace Inc/Squarespace 6//v6//EN
BEGIN:VEVENT
UID:5e4f2f3e28370c27dcb1125d@squarespace.com
DTSTAMP:20200221T032052Z
DTSTART:20200326T220000Z
DTEND:20200327T033000Z
SUMMARY:Last day of Term 1 Finish 2.30pm 
END:VEVENT
END:VCALENDAR
