BEGIN:VCALENDAR
VERSION:2.0
PRODID:-//Squarespace Inc/Squarespace 6//v6//EN
BEGIN:VEVENT
UID:5e4f294352d2112df962eedd@squarespace.com
DTSTAMP:20200221T011533Z
DTSTART:20200320T230000Z
DTEND:20200321T003000Z
SUMMARY:Prep Open Day 
END:VEVENT
END:VCALENDAR
