BEGIN:VCALENDAR
VERSION:2.0
PRODID:-//Squarespace Inc/Squarespace 6//v6//EN
BEGIN:VEVENT
UID:5e49f7143be8c0066dfbcdd4@squarespace.com
DTSTAMP:20200217T021512Z
DTSTART:20200319T213000Z
DTEND:20200320T060000Z
SUMMARY:Student Free Day
END:VEVENT
END:VCALENDAR
