BEGIN:VCALENDAR
VERSION:2.0
PRODID:-//Squarespace Inc/Squarespace 6//v6//EN
BEGIN:VEVENT
UID:5e4f216a714700598320d9b6@squarespace.com
DTSTAMP:20200221T001803Z
DTSTART:20200301T203000Z
DTEND:20200306T040000Z
SUMMARY:Grades 6DS\, 6JS\, 6LH Wilson Promontory Camp
END:VEVENT
END:VCALENDAR
