BEGIN:VCALENDAR
VERSION:2.0
PRODID:-//Squarespace Inc/Squarespace 6//v6//EN
BEGIN:VEVENT
UID:5e4f22a03323c2578bbbdc94@squarespace.com
DTSTAMP:20200221T003547Z
DTSTART:20200302T070000Z
DTEND:20200302T083000Z
SUMMARY:The Cyber Safety Project parent Session
END:VEVENT
END:VCALENDAR
