BEGIN:VCALENDAR
VERSION:2.0
PRODID:-//Squarespace Inc/Squarespace 6//v6//EN
BEGIN:VEVENT
UID:5e4f26fbe839481480489d94@squarespace.com
DTSTAMP:20200221T004958Z
DTSTART:20200315T213000Z
DTEND:20200318T043000Z
SUMMARY:Grade 5 Camp Rumbug
END:VEVENT
END:VCALENDAR
