BEGIN:VCALENDAR
VERSION:2.0
PRODID:-//Squarespace Inc/Squarespace 6//v6//EN
BEGIN:VEVENT
UID:5e4f2677eec28545f8aa1b79@squarespace.com
DTSTAMP:20200221T004017Z
DTSTART:20200313T063000Z
DTEND:20200313T100000Z
SUMMARY:Movie Under The Stars ' Dr Dolittle'
END:VEVENT
END:VCALENDAR
