BEGIN:VCALENDAR
VERSION:2.0
PRODID:-//Squarespace Inc/Squarespace 6//v6//EN
BEGIN:VEVENT
UID:5e4f10b01a3bc375d9ac74c5@squarespace.com
DTSTAMP:20200221T001842Z
DTSTART:20200223T203000Z
DTEND:20200228T040000Z
SUMMARY:Grades 6JR\, 6NM\, 6EB Wilson Promontory Camp 
END:VEVENT
END:VCALENDAR
