BEGIN:VCALENDAR
VERSION:2.0
PRODID:-//Squarespace Inc/Squarespace 6//v6//EN
BEGIN:VEVENT
UID:5e4f32293294823adf5a1b02@squarespace.com
DTSTAMP:20200221T012949Z
DTSTART:20201217T220000Z
DTEND:20201218T043000Z
SUMMARY:Student Free Day 
END:VEVENT
END:VCALENDAR
