BEGIN:VCALENDAR
VERSION:2.0
PRODID:-//Squarespace Inc/Squarespace 6//v6//EN
BEGIN:VEVENT
UID:5e4f31cf3852d848ffdaef3a@squarespace.com
DTSTAMP:20200221T012800Z
DTSTART:20201101T220000Z
DTEND:20201102T043000Z
SUMMARY:Student Free Day
END:VEVENT
END:VCALENDAR
