BEGIN:VCALENDAR
VERSION:2.0
PRODID:-//Squarespace Inc/Squarespace 6//v6//EN
BEGIN:VEVENT
UID:5de6fb5e2aee26493f065c4a@squarespace.com
DTSTAMP:20191205T082848Z
DTSTART:20200130T220000Z
DTEND:20200131T043000Z
SUMMARY:School commences for Preps
END:VEVENT
END:VCALENDAR
