BEGIN:VCALENDAR
VERSION:2.0
PRODID:-//Squarespace Inc/Squarespace 6//v6//EN
BEGIN:VEVENT
UID:5de8bfca84458a54c2c8d9af@squarespace.com
DTSTAMP:20191205T082931Z
DTSTART:20200129T220000Z
DTEND:20200130T043000Z
SUMMARY:School commences for students 1-6
END:VEVENT
END:VCALENDAR
