BEGIN:VCALENDAR
VERSION:2.0
PRODID:-//Squarespace Inc/Squarespace 6//v6//EN
BEGIN:VEVENT
UID:5de6fa1b91057c05bf4b3a9c@squarespace.com
DTSTAMP:20191205T082742Z
DTSTART:20200129T220000Z
DTEND:20200130T043000Z
SUMMARY:Prep Interview Day
END:VEVENT
END:VCALENDAR
