BEGIN:VCALENDAR
VERSION:2.0
PRODID:-//Squarespace Inc/Squarespace 6//v6//EN
BEGIN:VEVENT
UID:5d521e59b7cd1f0001bfaaf8@squarespace.com
DTSTAMP:20190813T022647Z
DTSTART:20190909T080000Z
DTEND:20190909T090000Z
SUMMARY:Chromebook Information Night -Grade 4 2020
END:VEVENT
END:VCALENDAR
