BEGIN:VCALENDAR
VERSION:2.0
PRODID:-//Squarespace Inc/Squarespace 6//v6//EN
BEGIN:VEVENT
UID:5d521c97aa95fc000110c0f9@squarespace.com
DTSTAMP:20190813T021808Z
DTSTART:20190906T080000Z
DTEND:20190906T091500Z
SUMMARY:School Disco Prep - 2
END:VEVENT
END:VCALENDAR
