BEGIN:VCALENDAR
VERSION:2.0
PRODID:-//Squarespace Inc/Squarespace 6//v6//EN
BEGIN:VEVENT
UID:5d521e01d7c37c00016d1cb8@squarespace.com
DTSTAMP:20190813T021950Z
DTSTART:20190906T100000Z
DTEND:20190906T113000Z
SUMMARY:School Disco Grade's 3-6
END:VEVENT
END:VCALENDAR
