BEGIN:VCALENDAR
VERSION:2.0
PRODID:-//Squarespace Inc/Squarespace 6//v6//EN
BEGIN:VEVENT
UID:5c6ddad8f9619ab979168995@squarespace.com
DTSTAMP:20190220T225542Z
DTSTART:20190920T230000Z
DTEND:20191005T220000Z
SUMMARY:Term 3 Holiday
END:VEVENT
END:VCALENDAR
