BEGIN:VCALENDAR
VERSION:2.0
PRODID:-//Squarespace Inc/Squarespace 6//v6//EN
BEGIN:VEVENT
UID:5d52353b24fd2f00014fbd77@squarespace.com
DTSTAMP:20190813T035914Z
DTSTART:20190919T230000Z
DTEND:20190920T043000Z
SUMMARY:Term 3 Last Day - 2.30pm Finish 
END:VEVENT
END:VCALENDAR
