BEGIN:VCALENDAR
VERSION:2.0
PRODID:-//Squarespace Inc/Squarespace 6//v6//EN
BEGIN:VEVENT
UID:5d5240bc85f42b00011681b9@squarespace.com
DTSTAMP:20190813T044741Z
DTSTART:20190917T230000Z
DTEND:20190918T053000Z
SUMMARY:Casey North Division Athletics 
END:VEVENT
END:VCALENDAR
