BEGIN:VCALENDAR
VERSION:2.0
PRODID:-//Squarespace Inc/Squarespace 6//v6//EN
BEGIN:VEVENT
UID:5d52437385f42b0001169966@squarespace.com
DTSTAMP:20190813T045918Z
DTSTART:20190909T230000Z
DTEND:20190910T050000Z
SUMMARY:Grade 5 &amp\; 6 Hoop time Competition
END:VEVENT
END:VCALENDAR
