BEGIN:VCALENDAR
VERSION:2.0
PRODID:-//Squarespace Inc/Squarespace 6//v6//EN
BEGIN:VEVENT
UID:5d50de4713c1dd0001460f7f@squarespace.com
DTSTAMP:20190812T033533Z
DTSTART:20190829T043000Z
DTEND:20190829T053000Z
SUMMARY:Grandparent's Afternoon
END:VEVENT
END:VCALENDAR
