BEGIN:VCALENDAR
VERSION:2.0
PRODID:-//Squarespace Inc/Squarespace 6//v6//EN
BEGIN:VEVENT
UID:5d521afcaa95fc000110a9cc@squarespace.com
DTSTAMP:20190813T020713Z
DTSTART:20190827T230000Z
DTEND:20190828T053000Z
SUMMARY:Edwin Flack District Athletics Casey Fields
END:VEVENT
END:VCALENDAR
