BEGIN:VCALENDAR
VERSION:2.0
PRODID:-//Squarespace Inc/Squarespace 6//v6//EN
BEGIN:VEVENT
UID:5d50dc7de6a2b0000112797b@squarespace.com
DTSTAMP:20190812T033036Z
DTSTART:20190826T230000Z
DTEND:20190827T004500Z
SUMMARY:Father's Day Breakfast
END:VEVENT
END:VCALENDAR
