BEGIN:VCALENDAR
VERSION:2.0
PRODID:-//Squarespace Inc/Squarespace 6//v6//EN
BEGIN:VEVENT
UID:5d521a2777ab83000168c00a@squarespace.com
DTSTAMP:20190813T020534Z
DTSTART:20190822T230000Z
DTEND:20190823T053000Z
SUMMARY:Grade 5/6 AFL 9's
END:VEVENT
END:VCALENDAR
