BEGIN:VCALENDAR
VERSION:2.0
PRODID:-//Squarespace Inc/Squarespace 6//v6//EN
BEGIN:VEVENT
UID:5d52395ff9d5a20001701af1@squarespace.com
DTSTAMP:20190813T044454Z
DTSTART:20190820T083000Z
DTEND:20190820T093000Z
SUMMARY:KidsROAR Parent Information Session
END:VEVENT
END:VCALENDAR
