BEGIN:VCALENDAR
VERSION:2.0
PRODID:-//Squarespace Inc/Squarespace 6//v6//EN
BEGIN:VEVENT
UID:5d521b656373080001b93494@squarespace.com
DTSTAMP:20190813T021224Z
DTSTART:20190818T230000Z
DTEND:20190819T053000Z
SUMMARY:Edwin Flack District basketball 
END:VEVENT
END:VCALENDAR
