BEGIN:VCALENDAR
VERSION:2.0
PRODID:-//Squarespace Inc/Squarespace 6//v6//EN
BEGIN:VEVENT
UID:5c6ddaa37817f7934c0a21f1@squarespace.com
DTSTAMP:20190220T225503Z
DTSTART:20190628T230000Z
DTEND:20190713T220000Z
SUMMARY:Term 2 Holiday
END:VEVENT
END:VCALENDAR
