BEGIN:VCALENDAR
VERSION:2.0
PRODID:-//Squarespace Inc/Squarespace 6//v6//EN
BEGIN:VEVENT
UID:5c6dda67971a1811e02c8f8b@squarespace.com
DTSTAMP:20190220T225356Z
DTSTART:20190609T230000Z
DTEND:20190610T053000Z
SUMMARY:Queen's Birthday Public Holiday
END:VEVENT
END:VCALENDAR
