BEGIN:VCALENDAR
VERSION:2.0
PRODID:-//Squarespace Inc/Squarespace 6//v6//EN
BEGIN:VEVENT
UID:5ca69f4feb393170a5f2f8d0@squarespace.com
DTSTAMP:20190405T002209Z
DTSTART:20190509T003000Z
DTEND:20190509T013000Z
SUMMARY:Anzac Ceremony - 10.30am
END:VEVENT
END:VCALENDAR
