BEGIN:VCALENDAR
VERSION:2.0
PRODID:-//Squarespace Inc/Squarespace 6//v6//EN
BEGIN:VEVENT
UID:5ca6a0184e17b63431675024@squarespace.com
DTSTAMP:20190405T003052Z
DTSTART:20190527T080000Z
DTEND:20190527T093000Z
SUMMARY:Cyber Safety Project Parent Information Session
END:VEVENT
END:VCALENDAR
