BEGIN:VCALENDAR
VERSION:2.0
PRODID:-//Squarespace Inc/Squarespace 6//v6//EN
BEGIN:VEVENT
UID:5c6bd9d8419202ebf60c7fa1@squarespace.com
DTSTAMP:20190220T235123Z
DTSTART:20190516T230000Z
DTEND:20190517T053000Z
SUMMARY:Student Free Day
END:VEVENT
END:VCALENDAR
