BEGIN:VCALENDAR
VERSION:2.0
PRODID:-//Squarespace Inc/Squarespace 6//v6//EN
BEGIN:VEVENT
UID:5c6dd9468165f5296bedfd65@squarespace.com
DTSTAMP:20190220T224900Z
DTSTART:20190405T220000Z
DTEND:20190421T230000Z
SUMMARY:Term 1 Holidays
END:VEVENT
END:VCALENDAR
