BEGIN:VCALENDAR
VERSION:2.0
PRODID:-//Squarespace Inc/Squarespace 6//v6//EN
BEGIN:VEVENT
UID:5c6bdc0a652deadf25e509d3@squarespace.com
DTSTAMP:20190405T001611Z
DTSTART:20190404T220000Z
DTEND:20190405T033000Z
SUMMARY:Term 1 - Last Day 2.30pm finish
END:VEVENT
END:VCALENDAR
