BEGIN:VCALENDAR
VERSION:2.0
PRODID:-//Squarespace Inc/Squarespace 6//v6//EN
BEGIN:VEVENT
UID:5c6dd9070d9297c08a897d58@squarespace.com
DTSTAMP:20190220T224823Z
DTSTART:20190422T230000Z
DTEND:20190423T053000Z
SUMMARY:Term 2 Start
END:VEVENT
END:VCALENDAR
