BEGIN:VCALENDAR
VERSION:2.0
PRODID:-//Squarespace Inc/Squarespace 6//v6//EN
BEGIN:VEVENT
UID:5c6bd989652deadf25e4fa98@squarespace.com
DTSTAMP:20190219T102613Z
DTSTART:20190303T220000Z
DTEND:20190308T043000Z
SUMMARY:2019 - 2nd Grade 6 Group - Wilsons Prom. Camp 6DS &amp\; 6JS
END:VEVENT
END:VCALENDAR
