BEGIN:VCALENDAR
VERSION:2.0
PRODID:-//Squarespace Inc/Squarespace 6//v6//EN
BEGIN:VEVENT
UID:5c6dee6a0d929712f4f8f18b@squarespace.com
DTSTAMP:20190221T002331Z
DTSTART:20190315T230000Z
DTEND:20190316T003000Z
SUMMARY:Prep Open Day
END:VEVENT
END:VCALENDAR
