BEGIN:VCALENDAR
VERSION:2.0
PRODID:-//Squarespace Inc/Squarespace 6//v6//EN
BEGIN:VEVENT
UID:5c6dd9680d9297c08a898220@squarespace.com
DTSTAMP:20190220T225823Z
DTSTART:20190424T230000Z
DTEND:20190425T053000Z
SUMMARY:Anzac Day Public Holiday
END:VEVENT
END:VCALENDAR
