BEGIN:VCALENDAR
VERSION:2.0
PRODID:-//Squarespace Inc/Squarespace 6//v6//EN
BEGIN:VEVENT
UID:5c6bd935085229f2878479c6@squarespace.com
DTSTAMP:20190219T102456Z
DTSTART:20190224T220000Z
DTEND:20190301T043000Z
SUMMARY:2019 - 1st Grade 6 Group - Wilsons Prom. Camp 6JR\, 6TN\, 6EB
END:VEVENT
END:VCALENDAR
