BEGIN:VCALENDAR
VERSION:2.0
PRODID:-//Squarespace Inc/Squarespace 6//v6//EN
BEGIN:VEVENT
UID:5c6bd9066e9a7f0b4e486670@squarespace.com
DTSTAMP:20190220T224619Z
DTSTART:20190221T220000Z
DTEND:20190222T043000Z
SUMMARY:School Photos
END:VEVENT
END:VCALENDAR
