BEGIN:VCALENDAR
VERSION:2.0
PRODID:-//Squarespace Inc/Squarespace 6//v6//EN
BEGIN:VEVENT
UID:5c6ddb181905f41e5f86ae7d@squarespace.com
DTSTAMP:20190220T225902Z
DTSTART:20191104T220000Z
DTEND:20191105T043000Z
SUMMARY:Melbourne Cup Public Holiday
END:VEVENT
END:VCALENDAR
