BEGIN:VCALENDAR
VERSION:2.0
PRODID:-//Squarespace Inc/Squarespace 6//v6//EN
BEGIN:VEVENT
UID:5c6bd81f971a1870356b5b96@squarespace.com
DTSTAMP:20190219T102234Z
DTSTART:20190217T220000Z
DTEND:20190220T043000Z
SUMMARY:2019 Grade 5 Camp Rumbug
END:VEVENT
END:VCALENDAR
