BEGIN:VCALENDAR
VERSION:2.0
PRODID:-//Squarespace Inc/Squarespace 6//v6//EN
BEGIN:VEVENT
UID:5ddb27c1b53adb35ea9e35a1@squarespace.com
DTSTAMP:20191125T010150Z
DTSTART:20191203T224500Z
DTEND:20191203T233000Z
SUMMARY:2020 Prep meet the teacher day
END:VEVENT
END:VCALENDAR
